BEGIN:VCALENDAR
VERSION:2.0
PRODID:-//Migration Productions - ECPv6.15.20//NONSGML v1.0//EN
CALSCALE:GREGORIAN
METHOD:PUBLISH
X-ORIGINAL-URL:https://migrationproductions.com
X-WR-CALDESC:Events for Migration Productions
REFRESH-INTERVAL;VALUE=DURATION:PT1H
X-Robots-Tag:noindex
X-PUBLISHED-TTL:PT1H
BEGIN:VTIMEZONE
TZID:America/New_York
BEGIN:DAYLIGHT
TZOFFSETFROM:-0500
TZOFFSETTO:-0400
TZNAME:EDT
DTSTART:20230312T070000
END:DAYLIGHT
BEGIN:STANDARD
TZOFFSETFROM:-0400
TZOFFSETTO:-0500
TZNAME:EST
DTSTART:20231105T060000
END:STANDARD
BEGIN:DAYLIGHT
TZOFFSETFROM:-0500
TZOFFSETTO:-0400
TZNAME:EDT
DTSTART:20240310T070000
END:DAYLIGHT
BEGIN:STANDARD
TZOFFSETFROM:-0400
TZOFFSETTO:-0500
TZNAME:EST
DTSTART:20241103T060000
END:STANDARD
BEGIN:DAYLIGHT
TZOFFSETFROM:-0500
TZOFFSETTO:-0400
TZNAME:EDT
DTSTART:20250309T070000
END:DAYLIGHT
BEGIN:STANDARD
TZOFFSETFROM:-0400
TZOFFSETTO:-0500
TZNAME:EST
DTSTART:20251102T060000
END:STANDARD
END:VTIMEZONE
BEGIN:VEVENT
DTSTART;TZID=America/New_York:20241106T190000
DTEND;TZID=America/New_York:20241106T203000
DTSTAMP:20260424T203641
CREATED:20241022T015522Z
LAST-MODIFIED:20241022T022751Z
UID:3802-1730919600-1730925000@migrationproductions.com
SUMMARY:Cape Cod Viewfinders - Zoom - Iceland: Grimsey & Flatey Islands
DESCRIPTION:Cape Cod Viewfinders (Zoom) \nWednesday November 6\, 2024 \nTime: 7:00 PM \nIceland Land of Midnight Sun – Grimsey & Flatey Island \nIceland abounds in natural splendor: Waterfalls and glaciers\, panoramic views\, and otherworldly landscapes. It is a land of Northern Lights and midnight sun. And it is the realm of one of the world’s most charming and iconic bird: the Atlantic Puffin. \nBut Iceland is home to much more. During the summer months\, Iceland’s round-the-clock sunlight draws in a panoply of birds: Razorbills and guillemots\, phalaropes and godwits\, plovers and terns\, all accompany the puffins in nesting frenzy. Come along with wildlife photographer and Mass Audubon instructor Shawn Carey as he shares images\, and stories from his journey spent on two Icelandic islands. We will visit Grimsey Island\, the northern most inhabited island off the mainland of Iceland. For bird photographers and bird watchers looking for a great place to view and photograph nesting seabirds that call this island home during the summer this is a place you want to visit. \nFrom Grimsey we will travel to the island of Flatey\, a real hidden gem for bird photographers and bird watchers alike. Most people pass through Flatey (via ferry service out of Stykkisholmur) on their way to the well-known Latrabjarg bird cliffs to see Atlantic Puffins and Razorbills. However\, for those that have or take the time to explore Flatey you will find a small island that offers some very good photographic opportunities\, especially for Black Guillemot\, Red-necked Phalarope and Common Redshank just to name a few. \nIf you are planning a birding or bird photography trip to Iceland\, I would add Grimsey and Flatey island to your travel itinerary. Both are enjoyable places to spend a several days. \nAtlantic Puffin – Grimsey IslandCanon R3 + Canon 600mm – Gitzo tripod with FlexShooter head
URL:https://migrationproductions.com/event/cape-cod-viewfinders-zoom-iceland-grimsey-flatey-islands/
LOCATION:MA
ATTACH;FMTTYPE=image/jpeg:https://migrationproductions.com/wp-content/uploads/2022/08/P3A6963-1.jpg
END:VEVENT
BEGIN:VEVENT
DTSTART;TZID=America/New_York:20241109T083000
DTEND;TZID=America/New_York:20241109T163000
DTSTAMP:20260424T203641
CREATED:20241022T011134Z
LAST-MODIFIED:20241022T011227Z
UID:3789-1731141000-1731169800@migrationproductions.com
SUMMARY:Lightroom: Take Control of your Digital Photos
DESCRIPTION:Adobe Lightroom: Take Control of your Digital Photos \nSaturday November 9\, 2024 \nLocation: Mass Audubon Museum of American Bird Art\, Canton\, MA \nDo you have thousands of digital photos that you are struggling to organize? \nDo you need help on how to process a digital photo and export for web or email use? \nWildlife photographer and Mass Audubon instructor\, Shawn Carey of Migration Productions\, will teach you how to use Adobe Lightroom to manage your digital photo files using shortcuts that will be easy to learn. You will learn different tricks and techniques to apply keywords\, set up collections\, and use the develop module to edit your photos. \nOver the last 25 years\, Shawn’s photos have been published in the Boston Globe\, New York Times\, Mass Audubon Sanctuary Magazine\, Science Magazine\, Hawk Mountain Sanctuary Magazine and many others. Migration Productions produces bird and wildlife related multi-media presentations\, videos and photo workshops that have been presented all over the United States. \nEuropean Golden Plover – Grimsey Island
URL:https://migrationproductions.com/event/lightroom-take-control-of-your-digital-photos/
LOCATION:Mass Audubon Museum of American Bird Art\, 963 Washington Street\, Canton\, MA\, 02021\, United States
CATEGORIES:Workshop
ATTACH;FMTTYPE=image/jpeg:https://migrationproductions.com/wp-content/uploads/2022/08/P3A9341-2.jpg
END:VEVENT
BEGIN:VEVENT
DTSTART;TZID=America/New_York:20241116T090000
DTEND;TZID=America/New_York:20241116T160000
DTSTAMP:20260424T203641
CREATED:20241022T012340Z
LAST-MODIFIED:20241022T012614Z
UID:3792-1731747600-1731772800@migrationproductions.com
SUMMARY:Bird Photography Master Class
DESCRIPTION:Bird Photography Master Class with Shawn Carey & Mike Milicia \nLocation: Mass Audubon Museum of American Bird Art\, Canton\, MA \nSaturday November 16\, 2024 \nShawn Carey and Michael Milicia will lead this one-day classroom seminar crammed with tips and techniques that will help bring your avian imagery to the next level. \nMike and Shawn will be prepared to discuss a wide range of topics including fieldcraft\, composition\, exposure\, metering\, autofocus\, histograms\, minimizing noise\, camera setup\, flight photography\, video\, tripods\, lenses\, long lens technique\, sharpness\, light angles\, bird behavior\, poses\, head angles\, hot spot locations\, travel tips\, and more. \nPlease note that any detailed discussion of camera settings and behavior will be oriented toward mirrorless camera bodies. Due to advances in mirrorless technology and its many enormous advantages over DSLRs\, it has become the dominant and preferred choice for bird and wildlife photography. DSLR users will still benefit from many topics which are not camera-specific and will also come to understand the reasons why mirrorless cameras are taking over. \nThe exact content for the day will be guided in large part by questions and/or topic suggestions that registered attendees will be invited to submit in advance. We will do our best to make the content and presentation suitable for both beginners and more experienced bird photographers. \nRoseate Spoonbill\, Myakka River State Park
URL:https://migrationproductions.com/event/bird-photography-master-class-2/
LOCATION:Mass Audubon Museum of American Bird Art\, 963 Washington Street\, Canton\, MA\, 02021\, United States
CATEGORIES:Workshop
ATTACH;FMTTYPE=image/jpeg:https://migrationproductions.com/wp-content/uploads/2024/10/MG_9931.jpg
END:VEVENT
END:VCALENDAR