BEGIN:VCALENDAR
VERSION:2.0
PRODID:-//Migration Productions - ECPv6.15.20//NONSGML v1.0//EN
CALSCALE:GREGORIAN
METHOD:PUBLISH
X-WR-CALNAME:Migration Productions
X-ORIGINAL-URL:https://migrationproductions.com
X-WR-CALDESC:Events for Migration Productions
REFRESH-INTERVAL;VALUE=DURATION:PT1H
X-Robots-Tag:noindex
X-PUBLISHED-TTL:PT1H
BEGIN:VTIMEZONE
TZID:America/New_York
BEGIN:DAYLIGHT
TZOFFSETFROM:-0500
TZOFFSETTO:-0400
TZNAME:EDT
DTSTART:20230312T070000
END:DAYLIGHT
BEGIN:STANDARD
TZOFFSETFROM:-0400
TZOFFSETTO:-0500
TZNAME:EST
DTSTART:20231105T060000
END:STANDARD
BEGIN:DAYLIGHT
TZOFFSETFROM:-0500
TZOFFSETTO:-0400
TZNAME:EDT
DTSTART:20240310T070000
END:DAYLIGHT
BEGIN:STANDARD
TZOFFSETFROM:-0400
TZOFFSETTO:-0500
TZNAME:EST
DTSTART:20241103T060000
END:STANDARD
BEGIN:DAYLIGHT
TZOFFSETFROM:-0500
TZOFFSETTO:-0400
TZNAME:EDT
DTSTART:20250309T070000
END:DAYLIGHT
BEGIN:STANDARD
TZOFFSETFROM:-0400
TZOFFSETTO:-0500
TZNAME:EST
DTSTART:20251102T060000
END:STANDARD
END:VTIMEZONE
BEGIN:VEVENT
DTSTART;TZID=America/New_York:20241009T190000
DTEND;TZID=America/New_York:20241009T203000
DTSTAMP:20260424T220957
CREATED:20240829T023026Z
LAST-MODIFIED:20240830T025253Z
UID:3764-1728500400-1728505800@migrationproductions.com
SUMMARY:Paskamansett Bird Club - A Penguin Adventure - Falkland Islands
DESCRIPTION:A Penguin Adventure – Falkland Islands with Shawn Carey\nWednesday October 9\, 2024\nTime: 7:00 PM \nSmith Neck Meeting House\n594 Smith Neck Road\nDartmouth\, MA 02749 \nThe Falkland Islands are located off the southern coast of Argentina and almost to the tip of Tierra Del Fuego. With one flight a week entering and departing the Falklands\, and a total of three days travel each way you have to really want to go there. We’re delighted to be hosting Shawn Carey on Tuesday\, September 17th\, to take us there. \nThe Falklands are a very remote South Atlantic archipelago with two main islands\, East and West Falkland\, plus an additional 776 smaller islands\, most of which are not inhabited. However\, several that are host some of the islands’ amazing wildlife\, including five species of penguins\, which on certain islands have thousands of birds during the nesting season. \nFor bird watchers and wildlife photographers with an interest in the birds found here you can see 63 nesting species including 14 endemic subspecies and two endemic species\, the Falkland Steamer Duck and the Cobb’s Wren. In addition to the bird life there are also both Southern Elephant Seals and Southern Sealions which can be seen in large numbers on a few islands. \nFor this program we will explore two locations on Saunders Islands\, The Neck\, which has three nesting penguin species plus nesting Black-browed Albatross. Then onto The Rookery with its impressive colony of Southern Rockhopper Penguins and a staggering number of Black-browed Albatross. After that we will explore Sealion Island and our first look at Elephant Seals\, Sealions and the Killer Whales that prowl the waters looking to feast on them. Next up is Bleaker Island with its beautiful mile long beach where you can watch Gentoo and Magellanic Penguins as they ride the waves onto the sandy shores. Finally\, we will end our photographic adventure at Volunteer Point which has the largest nesting King Penguin population in the Falklands. \nAll of this plus a look at the lodges one can stay at\, the food and some of the people you will meet along the way. I will share my advice on traveling to this fantastic location plus many tips to help you plan your own Penguin adventure to the Falkland Islands. \nSouthern Elephant Seal
URL:https://migrationproductions.com/event/paskamansett-bird-club-a-penguin-adventure-falkland-islands/
LOCATION:Smith Neck Meeting House\, 594 Smith Neck Road\, Dartmouth\, Massachusetts\, 02749
CATEGORIES:Lecture
ATTACH;FMTTYPE=image/jpeg:https://migrationproductions.com/wp-content/uploads/2024/08/3B_4397-Enhanced-NR-2.jpg
END:VEVENT
BEGIN:VEVENT
DTSTART;TZID=America/New_York:20241014T190000
DTEND;TZID=America/New_York:20241014T203000
DTSTAMP:20260424T220957
CREATED:20240829T023727Z
LAST-MODIFIED:20240830T025406Z
UID:3768-1728932400-1728937800@migrationproductions.com
SUMMARY:Cape Cod Bird Club - A Penguin Adventure - Monday October 14\, 2024
DESCRIPTION:A Penguin Adventure – Falkland Islands with Shawn Carey \nCape Cod Bird Club\nMonday October 14\, 2024\nDoors open: 6:30 PM\nMeeting begins: 7:00 PM \nLocation: Cape Cod Museum of Natural History\n869 Rte. 6A\nBrewster\, MA \nThe Falkland Islands are located off the southern coast of Argentina and almost to the tip of Tierra Del Fuego. With one flight a week entering and departing the Falklands\, and a total of three days travel each way you have to really want to go there. We’re delighted to be hosting Shawn Carey on Tuesday\, September 17th\, to take us there. \nThe Falklands are a very remote South Atlantic archipelago with two main islands\, East and West Falkland\, plus an additional 776 smaller islands\, most of which are not inhabited. However\, several that are host some of the islands’ amazing wildlife\, including five species of penguins\, which on certain islands have thousands of birds during the nesting season. \nFor bird watchers and wildlife photographers with an interest in the birds found here you can see 63 nesting species including 14 endemic subspecies and two endemic species\, the Falkland Steamer Duck and the Cobb’s Wren. In addition to the bird life there are also both Southern Elephant Seals and Southern Sealions which can be seen in large numbers on a few islands. \nFor this program we will explore two locations on Saunders Islands\, The Neck\, which has three nesting penguin species plus nesting Black-browed Albatross. Then onto The Rookery with its impressive colony of Southern Rockhopper Penguins and a staggering number of Black-browed Albatross. After that we will explore Sealion Island and our first look at Elephant Seals\, Sealions and the Killer Whales that prowl the waters looking to feast on them. Next up is Bleaker Island with its beautiful mile long beach where you can watch Gentoo and Magellanic Penguins as they ride the waves onto the sandy shores. Finally\, we will end our photographic adventure at Volunteer Point which has the largest nesting King Penguin population in the Falklands. \nAll of this plus a look at the lodges one can stay at\, the food and some of the people you will meet along the way. I will share my advice on traveling to this fantastic location plus many tips to help you plan your own Penguin adventure to the Falkland Islands. \nSouthern Elephant Seal
URL:https://migrationproductions.com/event/cape-cod-bird-club-a-penguin-adventure-monday-october-14-2024/
LOCATION:Cape Cod Museum of Natural History\, 869 Main Street\, Brewster\, MA\, 02631\, United States
ATTACH;FMTTYPE=image/jpeg:https://migrationproductions.com/wp-content/uploads/2024/08/3B_4397-Enhanced-NR-2.jpg
END:VEVENT
BEGIN:VEVENT
DTSTART;TZID=America/New_York:20241023T173000
DTEND;TZID=America/New_York:20241023T190000
DTSTAMP:20260424T220957
CREATED:20241022T022048Z
LAST-MODIFIED:20250826T021303Z
UID:3805-1729704600-1729710000@migrationproductions.com
SUMMARY:Riverwalk Brewing - Iceland: Grimsey & Flatey Island
DESCRIPTION:Birds & Brew \nIceland: Grimsey & Flatey Island \nWednesday October 23\, 2024 \nTime: 5:30 PM \nRiverwalk Brewing\n40 Parker Street\nNewburyport\, MA \n\n\nIceland Land of Midnight Sun – Grimsey & Flatey Island \nIceland abounds in natural splendor: Waterfalls and glaciers\, panoramic views\, and otherworldly landscapes. It is a land of Northern Lights and midnight sun. And it is the realm of one of the world’s most charming and iconic bird: the Atlantic Puffin. \nBut Iceland is home to much more. During the summer months\, Iceland’s round-the-clock sunlight draws in a panoply of birds: Razorbills and guillemots\, phalaropes and godwits\, plovers and terns\, all accompany the puffins in nesting frenzy. Come along with wildlife photographer and Mass Audubon instructor Shawn Carey as he shares images\, and stories from his journey spent on two Icelandic islands. We will visit Grimsey Island\, the northern most inhabited island off the mainland of Iceland. For bird photographers and bird watchers looking for a great place to view and photograph nesting seabirds that call this island home during the summer this is a place you want to visit. \nFrom Grimsey we will travel to the island of Flatey\, a real hidden gem for bird photographers and bird watchers alike. Most people pass through Flatey (via ferry service out of Stykkisholmur) on their way to the well-known Latrabjarg bird cliffs to see Atlantic Puffins and Razorbills. However\, for those that have or take the time to explore Flatey you will find a small island that offers some very good photographic opportunities\, especially for Black Guillemot\, Red-necked Phalarope and Common Redshank just to name a few. \nIf you are planning a birding or bird photography trip to Iceland\, I would add Grimsey and Flatey island to your travel itinerary. Both are enjoyable places to spend a few days. \n\n\n\n\n\n\nAtlantic Puffin – Grimsey Island
URL:https://migrationproductions.com/event/riverwalk-brewing-iceland-grimsey-flatey-island/
LOCATION:Riverwalk Brewing\, 40 Parker Street\, Newburyport\, 01950\, United States
ATTACH;FMTTYPE=image/jpeg:https://migrationproductions.com/wp-content/uploads/2022/08/U6A8550.jpg
END:VEVENT
END:VCALENDAR