BEGIN:VCALENDAR
VERSION:2.0
PRODID:-//Migration Productions - ECPv6.15.20//NONSGML v1.0//EN
CALSCALE:GREGORIAN
METHOD:PUBLISH
X-WR-CALNAME:Migration Productions
X-ORIGINAL-URL:https://migrationproductions.com
X-WR-CALDESC:Events for Migration Productions
REFRESH-INTERVAL;VALUE=DURATION:PT1H
X-Robots-Tag:noindex
X-PUBLISHED-TTL:PT1H
BEGIN:VTIMEZONE
TZID:America/New_York
BEGIN:DAYLIGHT
TZOFFSETFROM:-0500
TZOFFSETTO:-0400
TZNAME:EDT
DTSTART:20130310T070000
END:DAYLIGHT
BEGIN:STANDARD
TZOFFSETFROM:-0400
TZOFFSETTO:-0500
TZNAME:EST
DTSTART:20131103T060000
END:STANDARD
BEGIN:DAYLIGHT
TZOFFSETFROM:-0500
TZOFFSETTO:-0400
TZNAME:EDT
DTSTART:20140309T070000
END:DAYLIGHT
BEGIN:STANDARD
TZOFFSETFROM:-0400
TZOFFSETTO:-0500
TZNAME:EST
DTSTART:20141102T060000
END:STANDARD
BEGIN:DAYLIGHT
TZOFFSETFROM:-0500
TZOFFSETTO:-0400
TZNAME:EDT
DTSTART:20150308T070000
END:DAYLIGHT
BEGIN:STANDARD
TZOFFSETFROM:-0400
TZOFFSETTO:-0500
TZNAME:EST
DTSTART:20151101T060000
END:STANDARD
END:VTIMEZONE
BEGIN:VEVENT
DTSTART;TZID=America/New_York:20140208T133000
DTEND;TZID=America/New_York:20140208T150000
DTSTAMP:20260425T121658
CREATED:20140202T210653Z
LAST-MODIFIED:20140203T004956Z
UID:1553-1391866200-1391871600@migrationproductions.com
SUMMARY:Photographing Birds and Other Wildlife in Mass.
DESCRIPTION:Join Shawn as he speaks at the Merrimack River Eagle Festival. (Presented by Mass Audubon’s Joppa Flats Education Center and the Parker River National Wildlife Refuge)
URL:https://migrationproductions.com/event/photographing-birds-and-other-wildlife-in-mass/
LOCATION:Parker River National Wildlife Refuge Headquarters\, 6 Plum Island Turnpike\, Newburyport\, MA\, 01950\, United States
CATEGORIES:Lecture
END:VEVENT
END:VCALENDAR