BEGIN:VCALENDAR
VERSION:2.0
PRODID:-//Migration Productions - ECPv6.15.20//NONSGML v1.0//EN
CALSCALE:GREGORIAN
METHOD:PUBLISH
X-WR-CALNAME:Migration Productions
X-ORIGINAL-URL:https://migrationproductions.com
X-WR-CALDESC:Events for Migration Productions
REFRESH-INTERVAL;VALUE=DURATION:PT1H
X-Robots-Tag:noindex
X-PUBLISHED-TTL:PT1H
BEGIN:VTIMEZONE
TZID:America/New_York
BEGIN:DAYLIGHT
TZOFFSETFROM:-0500
TZOFFSETTO:-0400
TZNAME:EDT
DTSTART:20130310T070000
END:DAYLIGHT
BEGIN:STANDARD
TZOFFSETFROM:-0400
TZOFFSETTO:-0500
TZNAME:EST
DTSTART:20131103T060000
END:STANDARD
BEGIN:DAYLIGHT
TZOFFSETFROM:-0500
TZOFFSETTO:-0400
TZNAME:EDT
DTSTART:20140309T070000
END:DAYLIGHT
BEGIN:STANDARD
TZOFFSETFROM:-0400
TZOFFSETTO:-0500
TZNAME:EST
DTSTART:20141102T060000
END:STANDARD
BEGIN:DAYLIGHT
TZOFFSETFROM:-0500
TZOFFSETTO:-0400
TZNAME:EDT
DTSTART:20150308T070000
END:DAYLIGHT
BEGIN:STANDARD
TZOFFSETFROM:-0400
TZOFFSETTO:-0500
TZNAME:EST
DTSTART:20151101T060000
END:STANDARD
END:VTIMEZONE
BEGIN:VEVENT
DTSTART;TZID=America/New_York:20141016T193000
DTEND;TZID=America/New_York:20141016T213000
DTSTAMP:20260425T075730
CREATED:20141011T211726Z
LAST-MODIFIED:20141011T214243Z
UID:1681-1413487800-1413495000@migrationproductions.com
SUMMARY:Menotomy Bird Club
DESCRIPTION:Birding in the Land of Midnight Sun\nIceland abounds in natural splendor: Waterfalls and glaciers\, panoramic views and otherworldly landscapes. It is a land of Northern Lights and midnight sun. And it is the realm of one of the world’s most charming and iconic birds: the Atlantic Puffin.  But Iceland is home to much more. During the summer months\, Iceland’s round-the-clock sunlight draws in a panoply of birds: Razorbills and guillemots\, phalaropes and godwits\, plovers and terns\, all accompany the puffins in nesting frenzy. Come along with wildlife photographer and Mass Audubon instructor Shawn Carey as he shares images and stories from his recent journey across Iceland\, from the island of Flatey\, to the bird cliffs of Latabarg\, to the Reykjavik peninsula.
URL:https://migrationproductions.com/event/menotomy-bird-club/
LOCATION:Fox Library\, 175 Mass Ave.\, Arlington\, MA\, 02474\, United States
CATEGORIES:Lecture
ATTACH;FMTTYPE=image/jpeg:https://migrationproductions.com/wp-content/uploads/2014/10/J3O6331.jpg
END:VEVENT
BEGIN:VEVENT
DTSTART;VALUE=DATE:20140928
DTEND;VALUE=DATE:20140929
DTSTAMP:20260425T075730
CREATED:20140212T013750Z
LAST-MODIFIED:20140212T021206Z
UID:1596-1411862400-1411948799@migrationproductions.com
SUMMARY:Epic Journeys Screening - Plimoth Plantation
DESCRIPTION:Time TBD
URL:https://migrationproductions.com/event/epic-journeys-screening-plimoth-plantation/
LOCATION:Plimoth Plantation\, 137 Warren Avenue\, Plymouth\, MA\, 02360\, United States
CATEGORIES:Screening
END:VEVENT
BEGIN:VEVENT
DTSTART;TZID=America/New_York:20140910T190000
DTEND;TZID=America/New_York:20140910T203000
DTSTAMP:20260425T075730
CREATED:20140212T013016Z
LAST-MODIFIED:20140728T184928Z
UID:1593-1410375600-1410381000@migrationproductions.com
SUMMARY:Epic Journeys Screening - Menunkatuck Audubon Society
DESCRIPTION:Shawn will be screening “Epic Journeys” at the September meeting of the Menunkatuck Audubon Society. The film looks at three shorebird species – Red Knot\, Piping Plover\, and Semipalmated Sandpiper – and the challenges these species face during each of their monumental annual treks. \nThe meeting will be held at the Blackstone Memorial Library in Branford\, CT. (Library website http://www.blackstone.lioninc.org)
URL:https://migrationproductions.com/event/epic-journeys-screening-menunkatuck-audubon-society/
LOCATION:Brooks Free Library\, 739 Main Street\, Harwich\, MA\, 02645\, United States
CATEGORIES:Screening
END:VEVENT
BEGIN:VEVENT
DTSTART;TZID=America/New_York:20140820T183000
DTEND;TZID=America/New_York:20140820T203000
DTSTAMP:20260425T075730
CREATED:20140728T182110Z
LAST-MODIFIED:20140728T182949Z
UID:1667-1408559400-1408566600@migrationproductions.com
SUMMARY:Lightroom 5: Organize Your Digital Images-Section 3
DESCRIPTION:Do you have hundreds or maybe even thousands of digital photos and are having trouble organizing them? Do you need help on how to process a digital photo for output to e-mail or web? Want to set up your own photo web gallery? Join wildlife photographer and Mass Audubon instructor Shawn Carey of Migration Productions for this Adobe Lightroom 5 workshop. Learn how to manage all of your digital photo/files in a way that is easy and makes sense\, plus many shortcuts. \nCourse runs August 6th\, 13th\, and 20th. \nSection 3 (August 20)\n• Develop Module\n• Develop and output for e-mail and web\n• Create your own photo web gallery
URL:https://migrationproductions.com/event/lightroom-5-organize-your-digital-images-3/
LOCATION:South Shore Art Center\, 119 Ripley Road\, Cohasset\, MA\, 02025\, United States
CATEGORIES:Workshop
END:VEVENT
BEGIN:VEVENT
DTSTART;TZID=America/New_York:20140813T183000
DTEND;TZID=America/New_York:20140813T203000
DTSTAMP:20260425T075730
CREATED:20140728T182110Z
LAST-MODIFIED:20140728T183012Z
UID:1665-1407954600-1407961800@migrationproductions.com
SUMMARY:Lightroom 5: Organize Your Digital Images-Section 2
DESCRIPTION:Do you have hundreds or maybe even thousands of digital photos and are having trouble organizing them? Do you need help on how to process a digital photo for output to e-mail or web? Want to set up your own photo web gallery? Join wildlife photographer and Mass Audubon instructor Shawn Carey of Migration Productions for this Adobe Lightroom 5 workshop. Learn how to manage all of your digital photo/files in a way that is easy and makes sense\, plus many shortcuts. \nCourse runs August 6th\, 13th\, and 20th. \nSection 2 (August 13)\n• Overview of Importing\, rating and culling\n• Keywords and Keyword list\n• Understanding collections
URL:https://migrationproductions.com/event/lightroom-5-organize-your-digital-images-2/
LOCATION:South Shore Art Center\, 119 Ripley Road\, Cohasset\, MA\, 02025\, United States
CATEGORIES:Workshop
END:VEVENT
BEGIN:VEVENT
DTSTART;TZID=America/New_York:20140809T100000
DTEND;TZID=America/New_York:20140809T120000
DTSTAMP:20260425T075730
CREATED:20140809T134844Z
LAST-MODIFIED:20140809T134844Z
UID:1673-1407578400-1407585600@migrationproductions.com
SUMMARY:Radio Appearance: Fireside Radio Show
DESCRIPTION:Join Shawn and Jim as they chat about Epic Journeys and other upcoming projects. Find the Fireside Radio Show with hosts Jim Callahan and Nancy Mulvihill on the Money Matters Radio Network: WBNW 1120 AM\, WPLM 1390 AM\, WESO 970 AM and WCCM 1110 AM.
URL:https://migrationproductions.com/event/radio-appearance-fireside-radio-show/
LOCATION:MA
END:VEVENT
BEGIN:VEVENT
DTSTART;TZID=America/New_York:20140806T183000
DTEND;TZID=America/New_York:20140806T203000
DTSTAMP:20260425T075730
CREATED:20140728T182110Z
LAST-MODIFIED:20140728T183035Z
UID:1663-1407349800-1407357000@migrationproductions.com
SUMMARY:Lightroom 5: Organize Your Digital Images-Section 1
DESCRIPTION:Do you have hundreds or maybe even thousands of digital photos and are having trouble organizing them? Do you need help on how to process a digital photo for output to e-mail or web? Want to set up your own photo web gallery? Join wildlife photographer and Mass Audubon instructor Shawn Carey of Migration Productions for this Adobe Lightroom 5 workshop. Learn how to manage all of your digital photo/files in a way that is easy and makes sense\, plus many shortcuts. \nCourse runs August 6th\, 13th\, and 20th. \nSection 1 (August 6)\n• Understanding Lightroom and how it works\n• Importing files\, rating and editing or culling images\n• Library Module
URL:https://migrationproductions.com/event/lightroom-5-organize-your-digital-images/
LOCATION:South Shore Art Center\, 119 Ripley Road\, Cohasset\, MA\, 02025\, United States
CATEGORIES:Workshop
END:VEVENT
BEGIN:VEVENT
DTSTART;TZID=America/New_York:20140504T140000
DTEND;TZID=America/New_York:20140504T153000
DTSTAMP:20260425T075730
CREATED:20140212T011048Z
LAST-MODIFIED:20140212T011331Z
UID:1590-1399212000-1399217400@migrationproductions.com
SUMMARY:Epic Journeys Screening - Brooks Free Library
DESCRIPTION:Join Shawn at the Brooks Free Library for a screening of “Epic Journeys”. The film looks at three shorebird species – Red Knot\, Piping Plover\, and Semipalmated Sandpiper – and the challenges these species face during each of their monumental annual treks.
URL:https://migrationproductions.com/event/epic-journeys-screening-brooks-free-library/
LOCATION:Brooks Free Library\, 739 Main Street\, Harwich\, MA\, 02645\, United States
CATEGORIES:Screening
END:VEVENT
BEGIN:VEVENT
DTSTART;TZID=America/New_York:20140503T190000
DTEND;TZID=America/New_York:20140503T203000
DTSTAMP:20260425T075730
CREATED:20140212T010202Z
LAST-MODIFIED:20140212T010613Z
UID:1587-1399143600-1399149000@migrationproductions.com
SUMMARY:Epic Journeys Screening - Hoffman Bird Club
DESCRIPTION:Join us at Hoffman Bird Club’s Banquet and Annual Meeting\, where we will screen our latest video. “Epic Journeys” looks at three shorebird species – Red Knot\, Piping Plover\, and Semipalmated Sandpiper – and the challenges these species face during each of their monumental annual treks. \nSocial hour: 5pm\nDinner: 6pm
URL:https://migrationproductions.com/event/epic-journeys-screening-hoffman-bird-club/
LOCATION:Mazzeo’s Ristorante\, 1015 South Street\, Pittsfield\, MA\, 01201\, United States
CATEGORIES:Screening
END:VEVENT
BEGIN:VEVENT
DTSTART;TZID=America/New_York:20140412T083000
DTEND;TZID=America/New_York:20140412T163000
DTSTAMP:20260425T075730
CREATED:20140407T185519Z
LAST-MODIFIED:20140407T190148Z
UID:1622-1397291400-1397320200@migrationproductions.com
SUMMARY:Workshop: "Take Control of your Digital Photos" - Pennsylvania
DESCRIPTION:Do you have hundreds maybe even thousands of digital photos and are having trouble organizing them? Are you shooting in RAW? Do you need help on how to process multiple digital photos for competitions or to sell? Want to set up your own photo web gallery? \nThe Photographic Arts Society Of NWPA presents wildlife photographer and Massachusetts Audubon instructor Shawn Carey of Migration Productions for this one-day workshop using Adobe Lightroom. Learn how to manage all of your digital photo/files in a way that makes sense and is easy to learn\, plus many shortcuts. \nCompton Hall\, Room 107 A
URL:https://migrationproductions.com/event/workshop-take-control-of-your-digital-photos-pa/
LOCATION:Edinboro University\, 210 E. Normal St.\, Edinboro\, PA\, 16412\, United States
CATEGORIES:Workshop
END:VEVENT
BEGIN:VEVENT
DTSTART;TZID=America/New_York:20140408T200000
DTEND;TZID=America/New_York:20140408T213000
DTSTAMP:20260425T075730
CREATED:20140212T005811Z
LAST-MODIFIED:20140212T005817Z
UID:1586-1396987200-1396992600@migrationproductions.com
SUMMARY:Epic Journeys Screening - Harvard Travellers Club
DESCRIPTION:
URL:https://migrationproductions.com/event/epic-journeys-screening-harvard-travellers-club/
LOCATION:Harvard Club\, 374 Commonwealth Avenue\, Boston\, MA\, 02215\, United States
CATEGORIES:Screening
END:VEVENT
BEGIN:VEVENT
DTSTART;TZID=America/New_York:20140405T093000
DTEND;TZID=America/New_York:20140405T163000
DTSTAMP:20260425T075730
CREATED:20140212T004856Z
LAST-MODIFIED:20140212T005020Z
UID:1584-1396690200-1396715400@migrationproductions.com
SUMMARY:Workshop: "Digital Darkroom: Using Adobe Lightroom" - Falmouth\, ME
DESCRIPTION:Do you have hundreds maybe even thousands of digital photos and are having trouble organizing them? Are you shooting in RAW? Do you need help on how to process multiple digital photos for output to e-mail or web? Want to set up your own photo web gallery? \nJoin wildlife photographer Shawn Carey for this one day workshop using Adobe Lightroom. Learn how to manage all of your digital photo/files in a way that makes sense and is easy to learn\, plus many shortcuts.
URL:https://migrationproductions.com/event/workshop-digital-darkroom-using-adobe-lightroom-maine/
LOCATION:Gilsland Farm Audubon Center\, 20 Gilsland Farm Road\, Falmouth\, ME\, 04105\, United States
END:VEVENT
BEGIN:VEVENT
DTSTART;TZID=America/New_York:20140329T090000
DTEND;TZID=America/New_York:20140329T160000
DTSTAMP:20260425T075730
CREATED:20140212T003855Z
LAST-MODIFIED:20140212T004150Z
UID:1581-1396083600-1396108800@migrationproductions.com
SUMMARY:Workshop: "Digital Darkroom: Using Adobe Lightroom" - Natick
DESCRIPTION:Sponsored by Broadmoor Wildlife Sanctuary \nDo you have hundreds maybe even thousands of digital photos and are having trouble organizing them? Are you shooting in RAW? Do you need help on how to process multiple digital photos for output to e-mail or web? Want to set up your own photo web gallery? \nJoin wildlife photographer and Mass Audubon instructor Shawn Carey of Migration Productions for this one day workshop using Adobe Lightroom. Learn how to manage all of your digital photo/files in a way that makes sense and is easy to learn\, plus many shortcuts. \nThis class will cover understanding Lightroom and how it works including importing files\, rating and editing or culling images\, the Library Module\, using Keywords and Keyword list as well as developing your images for email or even your own photo web gallery. Small class size for individual attention.
URL:https://migrationproductions.com/event/workshop-digital-darkroom-natick/
LOCATION:Broadmoor Wildlife Sanctuary\, 280 Eliot Street\, Natick\, MA\, 01760\, United States
CATEGORIES:Workshop
END:VEVENT
BEGIN:VEVENT
DTSTART;TZID=America/New_York:20140316T090000
DTEND;TZID=America/New_York:20140316T160000
DTSTAMP:20260425T075730
CREATED:20140212T003221Z
LAST-MODIFIED:20140212T003948Z
UID:1579-1394960400-1394985600@migrationproductions.com
SUMMARY:Workshop: "Take Control of your Digital Photos" - S. Wellfleet
DESCRIPTION:Sponsored by Wellfleet Bay Wildlife Sanctuary and Cape Cod Art Association. \nHave you taken hundreds\, maybe even thousands\, of digital photos and are having trouble organizing them? Do you need help processing your digital photos for output on e-mail or the Web? Would you like to set up your own Web-based photo gallery? \nJoin wildlife photographer and Mass Audubon instructor Shawn Carey of Migration Productions for this one-day workshop to learn how to manage all of your digital photos/files in a way that makes sense to you and your audience. We’ll be working with the easy-to-use Adobe Lightroom\, and you will learn many of the shortcuts.
URL:https://migrationproductions.com/event/workshop-take-control-of-your-digital-photos-wellfleet/
LOCATION:Mass Audubon Wellfleet Bay\, 291 State Highway\, South Wellfleet\, MA\, 02663\, United States
CATEGORIES:Workshop
END:VEVENT
BEGIN:VEVENT
DTSTART;TZID=America/New_York:20140315T083000
DTEND;TZID=America/New_York:20140315T150000
DTSTAMP:20260425T075730
CREATED:20140203T034944Z
LAST-MODIFIED:20140212T012550Z
UID:1566-1394872200-1394895600@migrationproductions.com
SUMMARY:Cape Cod Natural History Conference
DESCRIPTION:Shawn will be exhibiting his photography during the Cape Cod Natural History Conference. \nSponsored by Wellfleet Bay Wildlife Sanctuary\, the Cape Cod Natural History Conference is a full day conference featuring presenters from environmental organizations across Cape Cod\, speaking on a diversity of natural history topics. Learn about local research projects\, conservation efforts\, and local environmental organizations. Participants will be able to ask questions as time permits and will receive a summary of presentations. This event is held at Cape Cod Community College’s Tilden Art Center.
URL:https://migrationproductions.com/event/cape-cod-natural-history-conference/
LOCATION:Cape Cod Community College – Tilden Art Center\, 2240 Iyannough Road\, West Barnstable\, MA\, 02668\, United States
CATEGORIES:Photo Exhibit
END:VEVENT
BEGIN:VEVENT
DTSTART;TZID=America/New_York:20140308T090000
DTEND;TZID=America/New_York:20140308T155000
DTSTAMP:20260425T075730
CREATED:20140203T034944Z
LAST-MODIFIED:20140203T144957Z
UID:1564-1394269200-1394293800@migrationproductions.com
SUMMARY:Mass Audubon Annual Birders Meeting
DESCRIPTION:Shawn will be exhibiting his photography during the 2014 Mass Audubon Birders Meeting.
URL:https://migrationproductions.com/event/mass-audubon-annual-birders-meeting/
LOCATION:Bentley University\, 175 Forest Street\, Waltham\, MA\, 02452\, United States
CATEGORIES:Photo Exhibit
END:VEVENT
BEGIN:VEVENT
DTSTART;TZID=America/New_York:20140305T190000
DTEND;TZID=America/New_York:20140305T203000
DTSTAMP:20260425T075730
CREATED:20140202T210653Z
LAST-MODIFIED:20140203T040554Z
UID:1561-1394046000-1394051400@migrationproductions.com
SUMMARY:Photographing Birds and Other Wildlife on the Gulf Coast of Florida
DESCRIPTION:Join Shawn as he speaks at the March meeting of the Duxbury Camera Club. He will be talking about some of the well known places on the Gulf Coast to photograph\, (Venice Rookery for example) plus some of the lesser known spots like the Venice Landfill and a few other beaches. He will also share tips about what to pack for your trip to make it more enjoyable.
URL:https://migrationproductions.com/event/photographing-birds-and-other-wildlife-in-fl/
LOCATION:Duxbury Library – Merry Room\, 77 Alden Street\, Duxbury\, MA\, 02332\, United States
CATEGORIES:Lecture
END:VEVENT
BEGIN:VEVENT
DTSTART;VALUE=DATE:20140304
DTEND;VALUE=DATE:20140331
DTSTAMP:20260425T075730
CREATED:20140317T152654Z
LAST-MODIFIED:20140317T152906Z
UID:1620-1393891200-1396223999@migrationproductions.com
SUMMARY:Massachusetts Wildlife Photo Exhibit
DESCRIPTION:Wildlife photographer Shawn Carey has been photographing birds and other wildlife in Massachusetts for over 20 years. “I find the natural world to be endlessly exciting and always providing something new to photograph. If it walks\, crawls\, flies swims or slithers I will photograph it\,” says Shawn. \nA small example of the amazing creatures Shawn has seen and photographed will be on display at the Wellfleet Bay Wildlife Sanctuary during the month of March.
URL:https://migrationproductions.com/event/massachusetts-wildlife-photo-exhibit/
LOCATION:Mass Audubon Wellfleet Bay\, 291 State Highway\, South Wellfleet\, MA\, 02663\, United States
CATEGORIES:Photo Exhibit
END:VEVENT
BEGIN:VEVENT
DTSTART;TZID=America/New_York:20140303T193000
DTEND;TZID=America/New_York:20140303T210000
DTSTAMP:20260425T075730
CREATED:20140212T000713Z
LAST-MODIFIED:20140212T012450Z
UID:1573-1393875000-1393880400@migrationproductions.com
SUMMARY:Epic Journeys Screening - Allen Bird Club
DESCRIPTION:Join us at the monthly meeting of the Allen Bird Club\, where we will screen our latest video. “Epic Journeys” looks at three shorebird species – Red Knot\, Piping Plover\, and Semipalmated Sandpiper – and the challenges these species face during each of their monumental annual treks. \nMeetings are held in the Tolman Wing of the Springfield Science Museum (The Quadrangle). Parking is in the Edwards St lot one block from Chestnut St and State St in Springfield.
URL:https://migrationproductions.com/event/epic-journeys-screening-allen-bird-club/
LOCATION:Springfield Science Museum\, 21 Edwards Street\, Springfield\, MA\, United States
CATEGORIES:Screening
END:VEVENT
BEGIN:VEVENT
DTSTART;TZID=America/New_York:20140228T183000
DTEND;TZID=America/New_York:20140228T200000
DTSTAMP:20260425T075730
CREATED:20140203T031818Z
LAST-MODIFIED:20140212T012251Z
UID:1555-1393612200-1393617600@migrationproductions.com
SUMMARY:Epic Journeys Screening - Brookline Bird Club
DESCRIPTION:Join us at Brookline Bird Club’s Winter Meeting\, where we will screen our latest video. “Epic Journeys” looks at three shorebird species – Red Knot\, Piping Plover\, and Semipalmated Sandpiper – and the challenges these species face during each of their monumental annual treks.
URL:https://migrationproductions.com/event/epic-journeys-screening/
LOCATION:John Glenn Middle School\, 99 McMahon Road\, Bedford\, MA\, 01730\, United States
CATEGORIES:Screening
END:VEVENT
BEGIN:VEVENT
DTSTART;TZID=America/New_York:20140208T133000
DTEND;TZID=America/New_York:20140208T150000
DTSTAMP:20260425T075730
CREATED:20140202T210653Z
LAST-MODIFIED:20140203T004956Z
UID:1553-1391866200-1391871600@migrationproductions.com
SUMMARY:Photographing Birds and Other Wildlife in Mass.
DESCRIPTION:Join Shawn as he speaks at the Merrimack River Eagle Festival. (Presented by Mass Audubon’s Joppa Flats Education Center and the Parker River National Wildlife Refuge)
URL:https://migrationproductions.com/event/photographing-birds-and-other-wildlife-in-mass/
LOCATION:Parker River National Wildlife Refuge Headquarters\, 6 Plum Island Turnpike\, Newburyport\, MA\, 01950\, United States
CATEGORIES:Lecture
END:VEVENT
END:VCALENDAR