BEGIN:VCALENDAR
VERSION:2.0
PRODID:-//Migration Productions - ECPv6.15.20//NONSGML v1.0//EN
CALSCALE:GREGORIAN
METHOD:PUBLISH
X-ORIGINAL-URL:https://migrationproductions.com
X-WR-CALDESC:Events for Migration Productions
REFRESH-INTERVAL;VALUE=DURATION:PT1H
X-Robots-Tag:noindex
X-PUBLISHED-TTL:PT1H
BEGIN:VTIMEZONE
TZID:America/New_York
BEGIN:DAYLIGHT
TZOFFSETFROM:-0500
TZOFFSETTO:-0400
TZNAME:EDT
DTSTART:20130310T070000
END:DAYLIGHT
BEGIN:STANDARD
TZOFFSETFROM:-0400
TZOFFSETTO:-0500
TZNAME:EST
DTSTART:20131103T060000
END:STANDARD
BEGIN:DAYLIGHT
TZOFFSETFROM:-0500
TZOFFSETTO:-0400
TZNAME:EDT
DTSTART:20140309T070000
END:DAYLIGHT
BEGIN:STANDARD
TZOFFSETFROM:-0400
TZOFFSETTO:-0500
TZNAME:EST
DTSTART:20141102T060000
END:STANDARD
BEGIN:DAYLIGHT
TZOFFSETFROM:-0500
TZOFFSETTO:-0400
TZNAME:EDT
DTSTART:20150308T070000
END:DAYLIGHT
BEGIN:STANDARD
TZOFFSETFROM:-0400
TZOFFSETTO:-0500
TZNAME:EST
DTSTART:20151101T060000
END:STANDARD
END:VTIMEZONE
BEGIN:VEVENT
DTSTART;TZID=America/New_York:20140910T190000
DTEND;TZID=America/New_York:20140910T203000
DTSTAMP:20260422T060221
CREATED:20140212T013016Z
LAST-MODIFIED:20140728T184928Z
UID:1593-1410375600-1410381000@migrationproductions.com
SUMMARY:Epic Journeys Screening - Menunkatuck Audubon Society
DESCRIPTION:Shawn will be screening “Epic Journeys” at the September meeting of the Menunkatuck Audubon Society. The film looks at three shorebird species – Red Knot\, Piping Plover\, and Semipalmated Sandpiper – and the challenges these species face during each of their monumental annual treks. \nThe meeting will be held at the Blackstone Memorial Library in Branford\, CT. (Library website http://www.blackstone.lioninc.org)
URL:https://migrationproductions.com/event/epic-journeys-screening-menunkatuck-audubon-society/
LOCATION:Brooks Free Library\, 739 Main Street\, Harwich\, MA\, 02645\, United States
CATEGORIES:Screening
END:VEVENT
BEGIN:VEVENT
DTSTART;TZID=America/New_York:20140504T140000
DTEND;TZID=America/New_York:20140504T153000
DTSTAMP:20260422T060221
CREATED:20140212T011048Z
LAST-MODIFIED:20140212T011331Z
UID:1590-1399212000-1399217400@migrationproductions.com
SUMMARY:Epic Journeys Screening - Brooks Free Library
DESCRIPTION:Join Shawn at the Brooks Free Library for a screening of “Epic Journeys”. The film looks at three shorebird species – Red Knot\, Piping Plover\, and Semipalmated Sandpiper – and the challenges these species face during each of their monumental annual treks.
URL:https://migrationproductions.com/event/epic-journeys-screening-brooks-free-library/
LOCATION:Brooks Free Library\, 739 Main Street\, Harwich\, MA\, 02645\, United States
CATEGORIES:Screening
END:VEVENT
BEGIN:VEVENT
DTSTART;TZID=America/New_York:20140503T190000
DTEND;TZID=America/New_York:20140503T203000
DTSTAMP:20260422T060221
CREATED:20140212T010202Z
LAST-MODIFIED:20140212T010613Z
UID:1587-1399143600-1399149000@migrationproductions.com
SUMMARY:Epic Journeys Screening - Hoffman Bird Club
DESCRIPTION:Join us at Hoffman Bird Club’s Banquet and Annual Meeting\, where we will screen our latest video. “Epic Journeys” looks at three shorebird species – Red Knot\, Piping Plover\, and Semipalmated Sandpiper – and the challenges these species face during each of their monumental annual treks. \nSocial hour: 5pm\nDinner: 6pm
URL:https://migrationproductions.com/event/epic-journeys-screening-hoffman-bird-club/
LOCATION:Mazzeo’s Ristorante\, 1015 South Street\, Pittsfield\, MA\, 01201\, United States
CATEGORIES:Screening
END:VEVENT
BEGIN:VEVENT
DTSTART;TZID=America/New_York:20140408T200000
DTEND;TZID=America/New_York:20140408T213000
DTSTAMP:20260422T060221
CREATED:20140212T005811Z
LAST-MODIFIED:20140212T005817Z
UID:1586-1396987200-1396992600@migrationproductions.com
SUMMARY:Epic Journeys Screening - Harvard Travellers Club
DESCRIPTION:
URL:https://migrationproductions.com/event/epic-journeys-screening-harvard-travellers-club/
LOCATION:Harvard Club\, 374 Commonwealth Avenue\, Boston\, MA\, 02215\, United States
CATEGORIES:Screening
END:VEVENT
BEGIN:VEVENT
DTSTART;TZID=America/New_York:20140303T193000
DTEND;TZID=America/New_York:20140303T210000
DTSTAMP:20260422T060221
CREATED:20140212T000713Z
LAST-MODIFIED:20140212T012450Z
UID:1573-1393875000-1393880400@migrationproductions.com
SUMMARY:Epic Journeys Screening - Allen Bird Club
DESCRIPTION:Join us at the monthly meeting of the Allen Bird Club\, where we will screen our latest video. “Epic Journeys” looks at three shorebird species – Red Knot\, Piping Plover\, and Semipalmated Sandpiper – and the challenges these species face during each of their monumental annual treks. \nMeetings are held in the Tolman Wing of the Springfield Science Museum (The Quadrangle). Parking is in the Edwards St lot one block from Chestnut St and State St in Springfield.
URL:https://migrationproductions.com/event/epic-journeys-screening-allen-bird-club/
LOCATION:Springfield Science Museum\, 21 Edwards Street\, Springfield\, MA\, United States
CATEGORIES:Screening
END:VEVENT
BEGIN:VEVENT
DTSTART;TZID=America/New_York:20140228T183000
DTEND;TZID=America/New_York:20140228T200000
DTSTAMP:20260422T060221
CREATED:20140203T031818Z
LAST-MODIFIED:20140212T012251Z
UID:1555-1393612200-1393617600@migrationproductions.com
SUMMARY:Epic Journeys Screening - Brookline Bird Club
DESCRIPTION:Join us at Brookline Bird Club’s Winter Meeting\, where we will screen our latest video. “Epic Journeys” looks at three shorebird species – Red Knot\, Piping Plover\, and Semipalmated Sandpiper – and the challenges these species face during each of their monumental annual treks.
URL:https://migrationproductions.com/event/epic-journeys-screening/
LOCATION:John Glenn Middle School\, 99 McMahon Road\, Bedford\, MA\, 01730\, United States
CATEGORIES:Screening
END:VEVENT
END:VCALENDAR