BEGIN:VCALENDAR
VERSION:2.0
PRODID:-//Migration Productions - ECPv6.15.20//NONSGML v1.0//EN
CALSCALE:GREGORIAN
METHOD:PUBLISH
X-WR-CALNAME:Migration Productions
X-ORIGINAL-URL:https://migrationproductions.com
X-WR-CALDESC:Events for Migration Productions
REFRESH-INTERVAL;VALUE=DURATION:PT1H
X-Robots-Tag:noindex
X-PUBLISHED-TTL:PT1H
BEGIN:VTIMEZONE
TZID:America/New_York
BEGIN:DAYLIGHT
TZOFFSETFROM:-0500
TZOFFSETTO:-0400
TZNAME:EDT
DTSTART:20130310T070000
END:DAYLIGHT
BEGIN:STANDARD
TZOFFSETFROM:-0400
TZOFFSETTO:-0500
TZNAME:EST
DTSTART:20131103T060000
END:STANDARD
BEGIN:DAYLIGHT
TZOFFSETFROM:-0500
TZOFFSETTO:-0400
TZNAME:EDT
DTSTART:20140309T070000
END:DAYLIGHT
BEGIN:STANDARD
TZOFFSETFROM:-0400
TZOFFSETTO:-0500
TZNAME:EST
DTSTART:20141102T060000
END:STANDARD
BEGIN:DAYLIGHT
TZOFFSETFROM:-0500
TZOFFSETTO:-0400
TZNAME:EDT
DTSTART:20150308T070000
END:DAYLIGHT
BEGIN:STANDARD
TZOFFSETFROM:-0400
TZOFFSETTO:-0500
TZNAME:EST
DTSTART:20151101T060000
END:STANDARD
END:VTIMEZONE
BEGIN:VEVENT
DTSTART;TZID=America/New_York:20140315T083000
DTEND;TZID=America/New_York:20140315T150000
DTSTAMP:20260424T113256
CREATED:20140203T034944Z
LAST-MODIFIED:20140212T012550Z
UID:1566-1394872200-1394895600@migrationproductions.com
SUMMARY:Cape Cod Natural History Conference
DESCRIPTION:Shawn will be exhibiting his photography during the Cape Cod Natural History Conference. \nSponsored by Wellfleet Bay Wildlife Sanctuary\, the Cape Cod Natural History Conference is a full day conference featuring presenters from environmental organizations across Cape Cod\, speaking on a diversity of natural history topics. Learn about local research projects\, conservation efforts\, and local environmental organizations. Participants will be able to ask questions as time permits and will receive a summary of presentations. This event is held at Cape Cod Community College’s Tilden Art Center.
URL:https://migrationproductions.com/event/cape-cod-natural-history-conference/
LOCATION:Cape Cod Community College – Tilden Art Center\, 2240 Iyannough Road\, West Barnstable\, MA\, 02668\, United States
CATEGORIES:Photo Exhibit
END:VEVENT
BEGIN:VEVENT
DTSTART;TZID=America/New_York:20140308T090000
DTEND;TZID=America/New_York:20140308T155000
DTSTAMP:20260424T113256
CREATED:20140203T034944Z
LAST-MODIFIED:20140203T144957Z
UID:1564-1394269200-1394293800@migrationproductions.com
SUMMARY:Mass Audubon Annual Birders Meeting
DESCRIPTION:Shawn will be exhibiting his photography during the 2014 Mass Audubon Birders Meeting.
URL:https://migrationproductions.com/event/mass-audubon-annual-birders-meeting/
LOCATION:Bentley University\, 175 Forest Street\, Waltham\, MA\, 02452\, United States
CATEGORIES:Photo Exhibit
END:VEVENT
BEGIN:VEVENT
DTSTART;VALUE=DATE:20140304
DTEND;VALUE=DATE:20140331
DTSTAMP:20260424T113256
CREATED:20140317T152654Z
LAST-MODIFIED:20140317T152906Z
UID:1620-1393891200-1396223999@migrationproductions.com
SUMMARY:Massachusetts Wildlife Photo Exhibit
DESCRIPTION:Wildlife photographer Shawn Carey has been photographing birds and other wildlife in Massachusetts for over 20 years. “I find the natural world to be endlessly exciting and always providing something new to photograph. If it walks\, crawls\, flies swims or slithers I will photograph it\,” says Shawn. \nA small example of the amazing creatures Shawn has seen and photographed will be on display at the Wellfleet Bay Wildlife Sanctuary during the month of March.
URL:https://migrationproductions.com/event/massachusetts-wildlife-photo-exhibit/
LOCATION:Mass Audubon Wellfleet Bay\, 291 State Highway\, South Wellfleet\, MA\, 02663\, United States
CATEGORIES:Photo Exhibit
END:VEVENT
END:VCALENDAR